BEGIN:VCALENDAR
VERSION:2.0
PRODID:-//Tukios.com/
BEGIN:VEVENT
UID:935dfac0-456c-4c53-b3ef-9d84d8e85045@www.coffmanfh.com
DTSTAMP:20260421T215306Z
DTSTART:20260424T190000Z
DTEND:20260424T200000Z
SUMMARY:Graveside Service
DESCRIPTION:
URL:https://www.coffmanfh.com/obituaries/cecil-turner
LOCATION: 1419 Maplewood Rd  Harrison AR 72601
GEO:36.2493568;-93.1046945
END:VEVENT
END:VCALENDAR