BEGIN:VCALENDAR
VERSION:2.0
PRODID:-//Tukios.com/
BEGIN:VEVENT
UID:ad18db04-685e-4dea-b247-b117e7514597@www.coffmanfh.com
DTSTAMP:20260421T010159Z
DTSTART:20260422T190000Z
DTEND:20260422T200000Z
SUMMARY:Funeral Service
DESCRIPTION:
URL:https://www.coffmanfh.com/obituaries/agnes-stovall
LOCATION: 501 Old Bellefonte Rd  Harrison AR 72601
GEO:36.2240253;-93.086681
END:VEVENT
END:VCALENDAR