BEGIN:VCALENDAR
VERSION:2.0
PRODID:-//Tukios.com/
BEGIN:VEVENT
UID:4fbf9933-dd5f-4beb-bd5d-26c6b91ef361@www.coffmanfh.com
DTSTAMP:20260421T010159Z
DTSTART:20260421T220000Z
DTEND:20260422T000000Z
SUMMARY:Visitation
DESCRIPTION:
URL:https://www.coffmanfh.com/obituaries/agnes-stovall
LOCATION: 501 Old Bellefonte Rd  Harrison AR 72601
GEO:36.2240253;-93.086681
END:VEVENT
END:VCALENDAR